BEGIN:VCALENDAR
VERSION:2.0
PRODID:-//Worship And Word Gospel Center - ECPv6.15.12.2//NONSGML v1.0//EN
CALSCALE:GREGORIAN
METHOD:PUBLISH
X-ORIGINAL-URL:https://worshipandwordgospelcenter.com
X-WR-CALDESC:Events for Worship And Word Gospel Center
REFRESH-INTERVAL;VALUE=DURATION:PT1H
X-Robots-Tag:noindex
X-PUBLISHED-TTL:PT1H
BEGIN:VTIMEZONE
TZID:UTC
BEGIN:STANDARD
TZOFFSETFROM:+0000
TZOFFSETTO:+0000
TZNAME:UTC
DTSTART:20230101T000000
END:STANDARD
END:VTIMEZONE
BEGIN:VEVENT
DTSTART;TZID=UTC:20240323T140000
DTEND;TZID=UTC:20240323T180000
DTSTAMP:20260419T121822
CREATED:20240314T181540Z
LAST-MODIFIED:20240314T181540Z
UID:1588-1711202400-1711216800@worshipandwordgospelcenter.com
SUMMARY:Woman in the Faith Conference
DESCRIPTION:WWGC First Women in the Faith Conference\, 2024\n\n\nHappening at the Clayton Hotel\, Cork City Center on the 23rd March 2024 [2-6pm]\n\n\nA day that promised to be transformative\, life changing and deeply impactful for women\, mothers\, ladies…\n\n\nNB: Men are also welcome..
URL:https://worshipandwordgospelcenter.com/event/woman-in-the-faith-conference/
LOCATION:Clayton Hotel\, Cork City Center\, Ireland
ORGANIZER;CN="Worship and Word Gospel Center":MAILTO:https://worshipandwordgospelcenter.com/
END:VEVENT
END:VCALENDAR